BEGIN:VCALENDAR
VERSION:2.0
PRODID:-//Arasco - ECPv4.6.22.1//NONSGML v1.0//EN
CALSCALE:GREGORIAN
METHOD:PUBLISH
X-WR-CALNAME:Arasco
X-ORIGINAL-URL:https://arascoaml.com
X-WR-CALDESC:Eventos para Arasco
BEGIN:VEVENT
DTSTART;TZID=UTC+0:20231123T090000
DTEND;TZID=UTC+0:20231124T170000
DTSTAMP:20260421T143617
CREATED:20230113T221901Z
LAST-MODIFIED:20230113T221901Z
UID:3977-1700730000-1700845200@arascoaml.com
SUMMARY:6TO CONGRESO INTERNACIONAL PREVENCIÓN DE LAVADO DE ACTIVOS\, SEGURIDAD Y DELITOS FINANCIEROS
DESCRIPTION:6TO CONGRESO INTERNACIONAL PREVENCIÓN DE LAVADO DE ACTIVOS\, SEGURIDAD Y DELITOS FINANCIEROS – GUAYAQUIL-ECUADOR \n
URL:https://arascoaml.com/event/6to-congreso-internacional-prevencion-de-lavado-de-activos-seguridad-y-delitos-financieros/
LOCATION:ARASCO\, Av. Hermano Miguel Mz. 1 Solar 6 y Agustin Freire. Edificio GS Building Piso 2 Oficina 205\, Guayaquil\, Guayas\, 090150\, Ecuador
CATEGORIES:Capacitaciones
ORGANIZER;CN="ARASCO":MAILTO:nathaly.guzman@grupomj.com
END:VEVENT
END:VCALENDAR