BEGIN:VCALENDAR
VERSION:2.0
PRODID:-//Arasco - ECPv4.6.22.1//NONSGML v1.0//EN
CALSCALE:GREGORIAN
METHOD:PUBLISH
X-WR-CALNAME:Arasco
X-ORIGINAL-URL:https://arascoaml.com
X-WR-CALDESC:Eventos para Arasco
BEGIN:VEVENT
DTSTART;TZID=UTC+0:20230601T090000
DTEND;TZID=UTC+0:20230602T130000
DTSTAMP:20260422T093347
CREATED:20230113T210718Z
LAST-MODIFIED:20230127T155635Z
UID:3952-1685610000-1685710800@arascoaml.com
SUMMARY:BLANQUEO DE CAPITALES A TRAVÉS DE ACTIVOS VIRTUALES Y BLOCKCHAIN\, PARTE 2: GESTIÓN DE RIESGOS E IDENTIFICACIÓN DE ALERTAS INUSUALES
DESCRIPTION:BLANQUEO DE CAPITALES A TRAVÉS DE ACTIVOS VIRTUALES Y BLOCKCHAIN\, PARTE 2: GESTIÓN DE RIESGOS E IDENTIFICACIÓN DE ALERTAS INUSUALES – MODALIDAD VIRTUAL \n
URL:https://arascoaml.com/event/blanqueo-de-capitales-a-traves-de-activos-virtuales-y-blockchain-parte-2-gestion-de-riesgos-e-identificacion-de-alertas-inusuales/
LOCATION:ARASCO\, Av. Hermano Miguel Mz. 1 Solar 6 y Agustin Freire. Edificio GS Building Piso 2 Oficina 205\, Guayaquil\, Guayas\, 090150\, Ecuador
CATEGORIES:Capacitaciones
ORGANIZER;CN="ARASCO":MAILTO:nathaly.guzman@grupomj.com
END:VEVENT
END:VCALENDAR