BEGIN:VCALENDAR
VERSION:2.0
PRODID:-//Arasco - ECPv4.6.22.1//NONSGML v1.0//EN
CALSCALE:GREGORIAN
METHOD:PUBLISH
X-WR-CALNAME:Arasco
X-ORIGINAL-URL:https://arascoaml.com
X-WR-CALDESC:Eventos para Arasco
BEGIN:VEVENT
DTSTART;TZID=UTC+0:20250403T090000
DTEND;TZID=UTC+0:20250403T170000
DTSTAMP:20260421T094424
CREATED:20250314T184413Z
LAST-MODIFIED:20250314T184413Z
UID:4484-1743670800-1743699600@arascoaml.com
SUMMARY:Compliance y fraude\, ISO 37001.
DESCRIPTION:Modalidad: Virtual / Presencial \n
URL:https://arascoaml.com/event/compliance-y-fraude-iso-37001/
LOCATION:ARASCO\, Av. Hermano Miguel Mz. 1 Solar 6 y Agustin Freire. Edificio GS Building Piso 2 Oficina 205\, Guayaquil\, Guayas\, 090150\, Ecuador
CATEGORIES:Capacitaciones
ORGANIZER;CN="ARASCO%26AML":MAILTO:michelle.guzman@arascoaml.com
END:VEVENT
END:VCALENDAR