BEGIN:VCALENDAR
VERSION:2.0
PRODID:-//Arasco - ECPv4.6.22.1//NONSGML v1.0//EN
CALSCALE:GREGORIAN
METHOD:PUBLISH
X-WR-CALNAME:Arasco
X-ORIGINAL-URL:https://arascoaml.com
X-WR-CALDESC:Eventos para Arasco
BEGIN:VEVENT
DTSTART;TZID=UTC+0:20230612T090000
DTEND;TZID=UTC+0:20230613T130000
DTSTAMP:20260422T075951
CREATED:20230113T212607Z
LAST-MODIFIED:20230127T160357Z
UID:3954-1686560400-1686661200@arascoaml.com
SUMMARY:DEFICIENCIAS EN LA GESTIÓN DEL RIESGO OPERATIVO QUE GENERA DELITOS INSTITUCIONALES
DESCRIPTION:DEFICIENCIAS EN LA GESTIÓN DEL RIESGO OPERATIVO QUE GENERA DELITOS INSTITUCIONALES – MODALIDAD PRESENCIAL PARA GUAYAQUIL VIRTUAL TODOS LOS PAÍSES \n
URL:https://arascoaml.com/event/deficiencias-en-la-gestion-del-riesgo-operativo-que-genera-delitos-institucionales/
LOCATION:ARASCO\, Av. Hermano Miguel Mz. 1 Solar 6 y Agustin Freire. Edificio GS Building Piso 2 Oficina 205\, Guayaquil\, Guayas\, 090150\, Ecuador
CATEGORIES:Capacitaciones
ORGANIZER;CN="ARASCO":MAILTO:nathaly.guzman@grupomj.com
END:VEVENT
END:VCALENDAR