BEGIN:VCALENDAR
VERSION:2.0
PRODID:-//Arasco - ECPv4.6.22.1//NONSGML v1.0//EN
CALSCALE:GREGORIAN
METHOD:PUBLISH
X-WR-CALNAME:Arasco
X-ORIGINAL-URL:https://arascoaml.com
X-WR-CALDESC:Eventos para Arasco
BEGIN:VEVENT
DTSTART;TZID=UTC+0:20211026T090000
DTEND;TZID=UTC+0:20211027T130000
DTSTAMP:20260424T014005
CREATED:20210120T163958Z
LAST-MODIFIED:20210120T163958Z
UID:3835-1635238800-1635339600@arascoaml.com
SUMMARY:Entrevista de Seleccion de Personal con Enfoque en los Riesgos del Cargo vs Riesgos del Postulante - Nivel: medio
DESCRIPTION:Entrevista de Seleccion de Personal con Enfoque en los Riesgos del Cargo vs Riesgos del Postulante – Nivel: medio  \n
URL:https://arascoaml.com/event/entrevista-de-seleccion-de-personal-con-enfoque-en-los-riesgos-del-cargo-vs-riesgos-del-postulante-nivel-medio/
LOCATION:ARASCO\, Av. Hermano Miguel Mz. 1 Solar 6 y Agustin Freire. Edificio GS Building Piso 2 Oficina 205\, Guayaquil\, Guayas\, 090150\, Ecuador
CATEGORIES:Capacitaciones
ORGANIZER;CN="ARASCO%26AML":MAILTO:michelle.guzman@arascoaml.com
END:VEVENT
END:VCALENDAR