BEGIN:VCALENDAR
VERSION:2.0
PRODID:-//Arasco - ECPv4.6.22.1//NONSGML v1.0//EN
CALSCALE:GREGORIAN
METHOD:PUBLISH
X-WR-CALNAME:Arasco
X-ORIGINAL-URL:https://arascoaml.com
X-WR-CALDESC:Eventos para Arasco
BEGIN:VEVENT
DTSTART;VALUE=DATE:20221017
DTEND;VALUE=DATE:20221018
DTSTAMP:20260423T085704
CREATED:20220110T213714Z
LAST-MODIFIED:20220110T213714Z
UID:3883-1665964800-1666051199@arascoaml.com
SUMMARY:Especialista en prevención del lavado de activos\,  formación como oficial de cumplimiento
DESCRIPTION:Especialista en prevención del lavado de activos\,\nformación como oficial de cumplimiento \n
URL:https://arascoaml.com/event/especialista-en-prevencion-del-lavado-de-activos-formacion-como-oficial-de-cumplimiento-2/
LOCATION:ARASCO\, Av. Hermano Miguel Mz. 1 Solar 6 y Agustin Freire. Edificio GS Building Piso 2 Oficina 205\, Guayaquil\, Guayas\, 090150\, Ecuador
CATEGORIES:Capacitaciones
ORGANIZER;CN="ARASCO%26AML":MAILTO:michelle.guzman@arascoaml.com
END:VEVENT
END:VCALENDAR