BEGIN:VCALENDAR
VERSION:2.0
PRODID:-//Arasco - ECPv4.6.22.1//NONSGML v1.0//EN
CALSCALE:GREGORIAN
METHOD:PUBLISH
X-WR-CALNAME:Arasco
X-ORIGINAL-URL:https://arascoaml.com
X-WR-CALDESC:Eventos para Arasco
BEGIN:VEVENT
DTSTART;TZID=UTC+0:20231011T090000
DTEND;TZID=UTC+0:20231011T130000
DTSTAMP:20260421T191459
CREATED:20230113T220901Z
LAST-MODIFIED:20230113T220901Z
UID:3971-1697014800-1697029200@arascoaml.com
SUMMARY:GENERACIÓN DE ROS - ROII DE CALIDAD
DESCRIPTION:GENERACIÓN DE ROS – ROII DE CALIDAD – MODALIDAD VIRTUAL \n
URL:https://arascoaml.com/event/generacion-de-ros-roii-de-calidad/
LOCATION:ARASCO\, Av. Hermano Miguel Mz. 1 Solar 6 y Agustin Freire. Edificio GS Building Piso 2 Oficina 205\, Guayaquil\, Guayas\, 090150\, Ecuador
CATEGORIES:Capacitaciones
ORGANIZER;CN="ARASCO":MAILTO:nathaly.guzman@grupomj.com
END:VEVENT
END:VCALENDAR