BEGIN:VCALENDAR
VERSION:2.0
PRODID:-//Arasco - ECPv4.6.22.1//NONSGML v1.0//EN
CALSCALE:GREGORIAN
METHOD:PUBLISH
X-WR-CALNAME:Arasco
X-ORIGINAL-URL:https://arascoaml.com
X-WR-CALDESC:Eventos para Arasco
BEGIN:VEVENT
DTSTART;VALUE=DATE:20220715
DTEND;VALUE=DATE:20220716
DTSTAMP:20260423T133409
CREATED:20220110T212837Z
LAST-MODIFIED:20220110T212837Z
UID:3873-1657843200-1657929599@arascoaml.com
SUMMARY:Gestión de riesgos asociados del lavado de activos: riesgo legal:
DESCRIPTION:Gestión de riesgos asociados del lavado de activos:\nriesgo legal: \n
URL:https://arascoaml.com/event/gestion-de-riesgos-asociados-del-lavado-de-activos-riesgo-legal/
LOCATION:ARASCO\, Av. Hermano Miguel Mz. 1 Solar 6 y Agustin Freire. Edificio GS Building Piso 2 Oficina 205\, Guayaquil\, Guayas\, 090150\, Ecuador
CATEGORIES:Capacitaciones
ORGANIZER;CN="ARASCO%26AML":MAILTO:michelle.guzman@arascoaml.com
END:VEVENT
END:VCALENDAR