BEGIN:VCALENDAR
VERSION:2.0
PRODID:-//Arasco - ECPv4.6.22.1//NONSGML v1.0//EN
CALSCALE:GREGORIAN
METHOD:PUBLISH
X-WR-CALNAME:Arasco
X-ORIGINAL-URL:https://arascoaml.com
X-WR-CALDESC:Eventos para Arasco
BEGIN:VEVENT
DTSTART;TZID=UTC+0:20210201T150000
DTEND;TZID=UTC+0:20210202T190000
DTSTAMP:20260424T134313
CREATED:20210120T160428Z
LAST-MODIFIED:20210120T160428Z
UID:3781-1612191600-1612292400@arascoaml.com
SUMMARY:Gestión y Sanciones por coincidencias en listas - Nivel: avanzado
DESCRIPTION:Gestión y Sanciones por coincidencias en listas – Nivel: avanzado \n
URL:https://arascoaml.com/event/gestion-y-sanciones-por-coincidencias-en-listas-nivel-avanzado/
LOCATION:ARASCO\, Av. Hermano Miguel Mz. 1 Solar 6 y Agustin Freire. Edificio GS Building Piso 2 Oficina 205\, Guayaquil\, Guayas\, 090150\, Ecuador
CATEGORIES:Capacitaciones
ORGANIZER;CN="ARASCO%26AML":MAILTO:michelle.guzman@arascoaml.com
END:VEVENT
END:VCALENDAR