BEGIN:VCALENDAR
VERSION:2.0
PRODID:-//Arasco - ECPv4.6.22.1//NONSGML v1.0//EN
CALSCALE:GREGORIAN
METHOD:PUBLISH
X-WR-CALNAME:Arasco
X-ORIGINAL-URL:https://arascoaml.com
X-WR-CALDESC:Eventos para Arasco
BEGIN:VEVENT
DTSTART;TZID=UTC+0:20200618T090000
DTEND;TZID=UTC+0:20200619T170000
DTSTAMP:20260425T015636
CREATED:20200326T195432Z
LAST-MODIFIED:20200409T185758Z
UID:3501-1592470800-1592586000@arascoaml.com
SUMMARY:PANAMA: Anti Soborno y Anti Corrupción en las Organizaciones Para Gestión Del Riesgo Reputaciónal
DESCRIPTION:ANTI SOBORNO Y ANTI CORRUPCIÓN EN LAS ORGANIZACIONES PARA GESTIÓN DEL RIESGO REPUTACIONAL - Panama\n
URL:https://arascoaml.com/event/guayaquil-anti-soborno-y-anti-corrupcion-en-las-organizaciones-para-gestion-del-riesgo-reputacional/
LOCATION:Panamá\, Calle 52 y Ricardo Arias\, Área Bancaria. Ciudad de Panamá\, Panamá\, Panamá
CATEGORIES:Capacitaciones
ORGANIZER;CN="ARASCO":MAILTO:nathaly.guzman@grupomj.com
END:VEVENT
END:VCALENDAR