BEGIN:VCALENDAR
VERSION:2.0
PRODID:-//Arasco - ECPv4.6.22.1//NONSGML v1.0//EN
CALSCALE:GREGORIAN
METHOD:PUBLISH
X-WR-CALNAME:Arasco
X-ORIGINAL-URL:https://arascoaml.com
X-WR-CALDESC:Eventos para Arasco
BEGIN:VEVENT
DTSTART;TZID=UTC+0:20200713T090000
DTEND;TZID=UTC+0:20200714T170000
DTSTAMP:20260425T001654
CREATED:20200327T013840Z
LAST-MODIFIED:20200327T013840Z
UID:3516-1594630800-1594746000@arascoaml.com
SUMMARY:GUAYAQUIL: Gestión de la Seguridad Corporativa y Prácticas Comerciales para la Protección de Activos
DESCRIPTION:
URL:https://arascoaml.com/event/guayaquil-gestion-de-la-seguridad-corporativa-y-practicas-comerciales-para-la-proteccion-de-activos/
LOCATION:Guayaquil\, Ecuador
CATEGORIES:Capacitaciones
ORGANIZER;CN="ARASCO":MAILTO:nathaly.guzman@grupomj.com
END:VEVENT
END:VCALENDAR