BEGIN:VCALENDAR
VERSION:2.0
PRODID:-//Arasco - ECPv4.6.22.1//NONSGML v1.0//EN
CALSCALE:GREGORIAN
METHOD:PUBLISH
X-WR-CALNAME:Arasco
X-ORIGINAL-URL:https://arascoaml.com
X-WR-CALDESC:Eventos para Arasco
BEGIN:VEVENT
DTSTART;TZID=UTC+0:20200624T090000
DTEND;TZID=UTC+0:20200624T170000
DTSTAMP:20260425T015257
CREATED:20200326T192743Z
LAST-MODIFIED:20200409T184807Z
UID:3479-1592989200-1593018000@arascoaml.com
SUMMARY:GUAYAQUIL: Prevención de Lavado de Activos\, contra el Financiamiento al Terrorismo y Crimen Organizado (Módulo 7)
DESCRIPTION:AGENDA PLA 120-N\n
URL:https://arascoaml.com/event/guayaquil-prevencion-de-lavado-de-activos-contra-el-financiamiento-al-terrorismo-y-crimen-organizado-modulo-7/
LOCATION:Guayaquil\, Ecuador
CATEGORIES:Capacitaciones
ORGANIZER;CN="ARASCO":MAILTO:nathaly.guzman@grupomj.com
END:VEVENT
END:VCALENDAR