BEGIN:VCALENDAR
VERSION:2.0
PRODID:-//Arasco - ECPv4.6.22.1//NONSGML v1.0//EN
CALSCALE:GREGORIAN
METHOD:PUBLISH
X-WR-CALNAME:Arasco
X-ORIGINAL-URL:https://arascoaml.com
X-WR-CALDESC:Eventos para Arasco
BEGIN:VEVENT
DTSTART;TZID=UTC+0:20200608T090000
DTEND;TZID=UTC+0:20200609T170000
DTSTAMP:20260425T015241
CREATED:20200326T194021Z
LAST-MODIFIED:20200326T194021Z
UID:3488-1591606800-1591722000@arascoaml.com
SUMMARY:GUAYAQUIL: Principios Y Buenas Prácticas De La Seguridad Corporativa Para La Protección De Activos
DESCRIPTION:
URL:https://arascoaml.com/event/guayaquil-principios-y-buenas-practicas-de-la-seguridad-corporativa-para-la-proteccion-de-activos/
LOCATION:Guayaquil\, Ecuador
CATEGORIES:Capacitaciones
ORGANIZER;CN="ARASCO":MAILTO:nathaly.guzman@grupomj.com
END:VEVENT
END:VCALENDAR