BEGIN:VCALENDAR
VERSION:2.0
PRODID:-//Arasco - ECPv4.6.22.1//NONSGML v1.0//EN
CALSCALE:GREGORIAN
METHOD:PUBLISH
X-WR-CALNAME:Arasco
X-ORIGINAL-URL:https://arascoaml.com
X-WR-CALDESC:Eventos para Arasco
BEGIN:VEVENT
DTSTART;TZID=UTC+0:20211116T090000
DTEND;TZID=UTC+0:20211119T130000
DTSTAMP:20260423T235002
CREATED:20210120T164052Z
LAST-MODIFIED:20210120T164052Z
UID:3837-1637053200-1637326800@arascoaml.com
SUMMARY:Matriz de Riesgo Institucional en Prevención de Lavado de Activos con Enfoque Basado en Riesgos - Nivel: avanzado
DESCRIPTION:Matriz de Riesgo Institucional en Prevención de Lavado de Activos con Enfoque Basado en Riesgos – Nivel: avanzado \n
URL:https://arascoaml.com/event/matriz-de-riesgo-institucional-en-prevencion-de-lavado-de-activos-con-enfoque-basado-en-riesgos-nivel-avanzado-2/
LOCATION:ARASCO\, Av. Hermano Miguel Mz. 1 Solar 6 y Agustin Freire. Edificio GS Building Piso 2 Oficina 205\, Guayaquil\, Guayas\, 090150\, Ecuador
CATEGORIES:Capacitaciones
ORGANIZER;CN="ARASCO%26AML":MAILTO:michelle.guzman@arascoaml.com
END:VEVENT
END:VCALENDAR