BEGIN:VCALENDAR
VERSION:2.0
PRODID:-//Arasco - ECPv4.6.22.1//NONSGML v1.0//EN
CALSCALE:GREGORIAN
METHOD:PUBLISH
X-WR-CALNAME:Arasco
X-ORIGINAL-URL:https://arascoaml.com
X-WR-CALDESC:Eventos para Arasco
BEGIN:VEVENT
DTSTART;TZID=UTC+0:20230913T090000
DTEND;TZID=UTC+0:20230913T170000
DTSTAMP:20260422T000307
CREATED:20230113T215850Z
LAST-MODIFIED:20230203T151000Z
UID:3965-1694595600-1694624400@arascoaml.com
SUMMARY:MATRIZ DE RIESGOS DE CLIENTES PARA LA PREVENCIÓN DEL BLANQUEO DE CAPITALES EN SUJETOS NO FINANCIEROS
DESCRIPTION:MATRIZ DE RIESGOS DE CLIENTES PARA LA PREVENCIÓN DEL BLANQUEO DE CAPITALES EN SUJETOS NO FINANCIEROS – MODALIDAD PRESENCIAL PARA PANAMÁ VIRTUAL TODOS LOS PAÍSES \n
URL:https://arascoaml.com/event/matriz-de-riesgos-de-clientes-para-la-prevencion-del-blanqueo-de-capitales-en-sujetos-no-financieros/
LOCATION:ARASCO\, Av. Hermano Miguel Mz. 1 Solar 6 y Agustin Freire. Edificio GS Building Piso 2 Oficina 205\, Guayaquil\, Guayas\, 090150\, Ecuador
CATEGORIES:Capacitaciones
ORGANIZER;CN="ARASCO":MAILTO:nathaly.guzman@grupomj.com
END:VEVENT
END:VCALENDAR