BEGIN:VCALENDAR
VERSION:2.0
PRODID:-//Arasco - ECPv4.6.22.1//NONSGML v1.0//EN
CALSCALE:GREGORIAN
METHOD:PUBLISH
X-WR-CALNAME:Arasco
X-ORIGINAL-URL:https://arascoaml.com
X-WR-CALDESC:Eventos para Arasco
BEGIN:VEVENT
DTSTART;TZID=UTC+0:20240115T170000
DTEND;TZID=UTC+0:20240124T210000
DTSTAMP:20260421T111934
CREATED:20240102T164911Z
LAST-MODIFIED:20240102T170150Z
UID:4386-1705338000-1706130000@arascoaml.com
SUMMARY:PROGRAMA DE FORMACIÓN: Fundamentos de investigación efectiva
DESCRIPTION:Fundamentos de investigación efectiva \nModalidad: Virtual \n
URL:https://arascoaml.com/event/programa-de-formacion/
LOCATION:ARASCO\, Av. Hermano Miguel Mz. 1 Solar 6 y Agustin Freire. Edificio GS Building Piso 2 Oficina 205\, Guayaquil\, Guayas\, 090150\, Ecuador
CATEGORIES:Capacitaciones
ORGANIZER;CN="ARASCO":MAILTO:nathaly.guzman@grupomj.com
END:VEVENT
END:VCALENDAR