BEGIN:VCALENDAR
VERSION:2.0
PRODID:-//Arasco - ECPv4.6.22.1//NONSGML v1.0//EN
CALSCALE:GREGORIAN
METHOD:PUBLISH
X-WR-CALNAME:Arasco
X-ORIGINAL-URL:https://arascoaml.com
X-WR-CALDESC:Eventos para Arasco
BEGIN:VEVENT
DTSTART;TZID=UTC+0:20231211T090000
DTEND;TZID=UTC+0:20231212T130000
DTSTAMP:20260421T130243
CREATED:20230113T222155Z
LAST-MODIFIED:20230113T222155Z
UID:3979-1702285200-1702386000@arascoaml.com
SUMMARY:REPORTE DE GESTIÓN ANUAL DE LA OFICIALÍA DE CUMPLIMIENTO
DESCRIPTION:REPORTE DE GESTIÓN ANUAL DE LA OFICIALÍA DE CUMPLIMIENTO – MODALIDAD VIRTUAL \n
URL:https://arascoaml.com/event/reporte-de-gestion-anual-de-la-oficialia-de-cumplimiento-2/
LOCATION:ARASCO\, Av. Hermano Miguel Mz. 1 Solar 6 y Agustin Freire. Edificio GS Building Piso 2 Oficina 205\, Guayaquil\, Guayas\, 090150\, Ecuador
CATEGORIES:Capacitaciones
ORGANIZER;CN="ARASCO":MAILTO:nathaly.guzman@grupomj.com
END:VEVENT
END:VCALENDAR