BEGIN:VCALENDAR
VERSION:2.0
PRODID:-//Arasco - ECPv4.6.22.1//NONSGML v1.0//EN
CALSCALE:GREGORIAN
METHOD:PUBLISH
X-WR-CALNAME:Arasco
X-ORIGINAL-URL:https://arascoaml.com
X-WR-CALDESC:Eventos para Arasco
BEGIN:VEVENT
DTSTART;VALUE=DATE:20221208
DTEND;VALUE=DATE:20221210
DTSTAMP:20260423T044702
CREATED:20220110T213933Z
LAST-MODIFIED:20220110T213933Z
UID:3891-1670457600-1670630399@arascoaml.com
SUMMARY:Reporte de gestión anual de la oficialía de cumplimiento
DESCRIPTION:Reporte de gestión anual de la oficialía de cumplimiento \n
URL:https://arascoaml.com/event/reporte-de-gestion-anual-de-la-oficialia-de-cumplimiento/
LOCATION:ARASCO\, Av. Hermano Miguel Mz. 1 Solar 6 y Agustin Freire. Edificio GS Building Piso 2 Oficina 205\, Guayaquil\, Guayas\, 090150\, Ecuador
CATEGORIES:Capacitaciones
ORGANIZER;CN="ARASCO%26AML":MAILTO:michelle.guzman@arascoaml.com
END:VEVENT
END:VCALENDAR