BEGIN:VCALENDAR
VERSION:2.0
PRODID:-//Arasco - ECPv4.6.22.1//NONSGML v1.0//EN
CALSCALE:GREGORIAN
METHOD:PUBLISH
X-WR-CALNAME:Arasco
X-ORIGINAL-URL:https://arascoaml.com
X-WR-CALDESC:Eventos para Arasco
BEGIN:VEVENT
DTSTART;TZID=UTC+0:20250306T090000
DTEND;TZID=UTC+0:20250306T170000
DTSTAMP:20260421T095047
CREATED:20250116T155200Z
LAST-MODIFIED:20250116T155200Z
UID:4474-1741251600-1741280400@arascoaml.com
SUMMARY:Seguridad de la cadena de suministros enfoque OEA.
DESCRIPTION:Modalidad: Virtual / Presencial 32 horas \n
URL:https://arascoaml.com/event/seguridad-de-la-cadena-de-suministros-enfoque-oea/
LOCATION:ARASCO\, Av. Hermano Miguel Mz. 1 Solar 6 y Agustin Freire. Edificio GS Building Piso 2 Oficina 205\, Guayaquil\, Guayas\, 090150\, Ecuador
CATEGORIES:Capacitaciones
ORGANIZER;CN="ARASCO%26AML":MAILTO:michelle.guzman@arascoaml.com
END:VEVENT
END:VCALENDAR