BEGIN:VCALENDAR
VERSION:2.0
PRODID:-//Arasco - ECPv4.6.22.1//NONSGML v1.0//EN
CALSCALE:GREGORIAN
METHOD:PUBLISH
X-WR-CALNAME:Arasco
X-ORIGINAL-URL:https://arascoaml.com
X-WR-CALDESC:Eventos para Arasco
BEGIN:VEVENT
DTSTART;TZID=UTC+0:20230125T090000
DTEND;TZID=UTC+0:20230125T130000
DTSTAMP:20260423T013635
CREATED:20221228T173155Z
LAST-MODIFIED:20230120T193536Z
UID:3921-1674637200-1674651600@arascoaml.com
SUMMARY:TALLER : DEBIDA DILIGENCIA DEL BENEFICIARIO FINAL - MODALIDAD VIRTUAL
DESCRIPTION:TALLER : DEBIDA DILIGENCIA DEL BENEFICIARIO FINAL  \n
URL:https://arascoaml.com/event/taller-debida-diligencia-del-beneficiario-final/
LOCATION:ARASCO\, Av. Hermano Miguel Mz. 1 Solar 6 y Agustin Freire. Edificio GS Building Piso 2 Oficina 205\, Guayaquil\, Guayas\, 090150\, Ecuador
CATEGORIES:Capacitaciones
ORGANIZER;CN="ARASCO":MAILTO:nathaly.guzman@grupomj.com
END:VEVENT
END:VCALENDAR