BEGIN:VCALENDAR
VERSION:2.0
PRODID:-//Arasco - ECPv4.6.22.1//NONSGML v1.0//EN
CALSCALE:GREGORIAN
METHOD:PUBLISH
X-WR-CALNAME:Arasco
X-ORIGINAL-URL:https://arascoaml.com
X-WR-CALDESC:Eventos para Arasco
BEGIN:VEVENT
DTSTART;TZID=UTC+0:20250422T090000
DTEND;TZID=UTC+0:20250422T170000
DTSTAMP:20260421T095143
CREATED:20250917T194153Z
LAST-MODIFIED:20250917T194153Z
UID:4497-1745312400-1745341200@arascoaml.com
SUMMARY:Técnicas de entrevista para la selección de personal.
DESCRIPTION:Modalidad:Virtual / Presencial \n
URL:https://arascoaml.com/event/tecnicas-de-entrevista-para-la-seleccion-de-personal/
LOCATION:ARASCO\, Av. Hermano Miguel Mz. 1 Solar 6 y Agustin Freire. Edificio GS Building Piso 2 Oficina 205\, Guayaquil\, Guayas\, 090150\, Ecuador
CATEGORIES:Capacitaciones
ORGANIZER;CN="ARASCO%26AML":MAILTO:michelle.guzman@arascoaml.com
END:VEVENT
END:VCALENDAR