BEGIN:VCALENDAR
VERSION:2.0
PRODID:-//Arasco - ECPv4.6.22.1//NONSGML v1.0//EN
CALSCALE:GREGORIAN
METHOD:PUBLISH
X-WR-CALNAME:Arasco
X-ORIGINAL-URL:https://arascoaml.com
X-WR-CALDESC:Eventos para Arasco
BEGIN:VEVENT
DTSTART;TZID=UTC+0:20200520T090000
DTEND;TZID=UTC+0:20200521T170000
DTSTAMP:20260425T032625
CREATED:20200326T183744Z
LAST-MODIFIED:20200409T182843Z
UID:3456-1589965200-1590080400@arascoaml.com
SUMMARY:QUITO: Matriz de Riesgos de Lavado de Activos Institucional
DESCRIPTION:MATRIZ RIESGOS INSTITUCIONAL - ecuador (1)\n
URL:https://arascoaml.com/event/quito-matriz-de-riesgos-de-lavado-de-activos-institucional/
LOCATION:Quito\, Avenida 12 de Octubre y Luis Cordero\, Quito\, PICHINCHA\, Ecuador
CATEGORIES:Capacitaciones
ORGANIZER;CN="ARASCO":MAILTO:nathaly.guzman@grupomj.com
END:VEVENT
END:VCALENDAR