BEGIN:VCALENDAR
VERSION:2.0
PRODID:-//Arasco - ECPv4.6.22.1//NONSGML v1.0//EN
CALSCALE:GREGORIAN
METHOD:PUBLISH
X-WR-CALNAME:Arasco
X-ORIGINAL-URL:https://arascoaml.com
X-WR-CALDESC:Eventos para Arasco
BEGIN:VEVENT
DTSTART;TZID=UTC+0:20200610T090000
DTEND;TZID=UTC+0:20200611T170000
DTSTAMP:20260425T014928
CREATED:20200326T194025Z
LAST-MODIFIED:20200326T194025Z
UID:3489-1591779600-1591894800@arascoaml.com
SUMMARY:QUITO: Principios Y Buenas Prácticas De La Seguridad Corporativa Para La Protección De Activos
DESCRIPTION:
URL:https://arascoaml.com/event/quito-principios-y-buenas-practicas-de-la-seguridad-corporativa-para-la-proteccion-de-activos/
LOCATION:Quito\, Avenida 12 de Octubre y Luis Cordero\, Quito\, PICHINCHA\, Ecuador
CATEGORIES:Capacitaciones
ORGANIZER;CN="ARASCO":MAILTO:nathaly.guzman@grupomj.com
END:VEVENT
BEGIN:VEVENT
DTSTART;TZID=UTC+0:20200611T090000
DTEND;TZID=UTC+0:20200611T130000
DTSTAMP:20260425T014928
CREATED:20200615T184126Z
LAST-MODIFIED:20200615T184126Z
UID:3742-1591866000-1591880400@arascoaml.com
SUMMARY:ON LINE: Elaboración de la Matriz de Riesgos Clientes\, Definiendo el riesgo transaccional y las alertas
DESCRIPTION:
URL:https://arascoaml.com/event/on-line-elaboracion-de-la-matriz-de-riesgos-clientes-definiendo-el-riesgo-transaccional-y-las-alertas/
LOCATION:ARASCO\, Av. Hermano Miguel Mz. 1 Solar 6 y Agustin Freire. Edificio GS Building Piso 2 Oficina 205\, Guayaquil\, Guayas\, 090150\, Ecuador
CATEGORIES:Capacitaciones
ORGANIZER;CN="ARASCO":MAILTO:nathaly.guzman@grupomj.com
END:VEVENT
END:VCALENDAR