BEGIN:VCALENDAR
VERSION:2.0
PRODID:-//Arasco - ECPv4.6.22.1//NONSGML v1.0//EN
CALSCALE:GREGORIAN
METHOD:PUBLISH
X-WR-CALNAME:Arasco
X-ORIGINAL-URL:https://arascoaml.com
X-WR-CALDESC:Eventos para Arasco
BEGIN:VEVENT
DTSTART;TZID=UTC+0:20200622T090000
DTEND;TZID=UTC+0:20200623T170000
DTSTAMP:20260425T014945
CREATED:20200326T195052Z
LAST-MODIFIED:20200409T185050Z
UID:3497-1592816400-1592931600@arascoaml.com
SUMMARY:GUAYAQUIL: Debida Diligencia Del Empleado\, Estrategias De Detección De Engaño y Técnicas De Entrevista
DESCRIPTION:DEBIDA DILIGENCIA DEL EMPLEADO\, TECNICAS DE ENTREVISTA Y DETECCION DE ENGAÑO - Ecuador\n
URL:https://arascoaml.com/event/guayaquil-debida-diligencia-del-empleado-estrategias-de-deteccion-de-engano-y-tecnicas-de-entrevista/
LOCATION:Guayaquil\, Ecuador
CATEGORIES:Capacitaciones
ORGANIZER;CN="ARASCO":MAILTO:nathaly.guzman@grupomj.com
END:VEVENT
END:VCALENDAR