BEGIN:VCALENDAR
VERSION:2.0
PRODID:-//Arasco - ECPv4.6.22.1//NONSGML v1.0//EN
CALSCALE:GREGORIAN
METHOD:PUBLISH
X-WR-CALNAME:Arasco
X-ORIGINAL-URL:https://arascoaml.com
X-WR-CALDESC:Eventos para Arasco
BEGIN:VEVENT
DTSTART;TZID=UTC+0:20200715T090000
DTEND;TZID=UTC+0:20200716T170000
DTSTAMP:20260425T001242
CREATED:20200327T013927Z
LAST-MODIFIED:20200327T013927Z
UID:3518-1594803600-1594918800@arascoaml.com
SUMMARY:QUITO: Gestión de la Seguridad Corporativa y Prácticas Comerciales para la Protección de Activos
DESCRIPTION:
URL:https://arascoaml.com/event/quito-gestion-de-la-seguridad-corporativa-y-practicas-comerciales-para-la-proteccion-de-activos/
LOCATION:Quito\, Avenida 12 de Octubre y Luis Cordero\, Quito\, PICHINCHA\, Ecuador
CATEGORIES:Capacitaciones
ORGANIZER;CN="ARASCO":MAILTO:nathaly.guzman@grupomj.com
END:VEVENT
BEGIN:VEVENT
DTSTART;TZID=UTC+0:20200716T090000
DTEND;TZID=UTC+0:20200716T130000
DTSTAMP:20260425T001242
CREATED:20200616T181422Z
LAST-MODIFIED:20200616T181422Z
UID:3752-1594890000-1594904400@arascoaml.com
SUMMARY:ON LINE: Elaboración de la Matriz de Riesgos del Proveedor\, Definiendo el Perfil de Riesgo del Proveedor
DESCRIPTION:
URL:https://arascoaml.com/event/on-line-elaboracion-de-la-matriz-de-riesgos-del-proveedor-definiendo-el-perfil-de-riesgo-del-proveedor/
LOCATION:ARASCO\, Av. Hermano Miguel Mz. 1 Solar 6 y Agustin Freire. Edificio GS Building Piso 2 Oficina 205\, Guayaquil\, Guayas\, 090150\, Ecuador
CATEGORIES:Capacitaciones
ORGANIZER;CN="ARASCO":MAILTO:nathaly.guzman@grupomj.com
END:VEVENT
END:VCALENDAR