BEGIN:VCALENDAR
VERSION:2.0
PRODID:-//Arasco - ECPv4.6.22.1//NONSGML v1.0//EN
CALSCALE:GREGORIAN
METHOD:PUBLISH
X-WR-CALNAME:Arasco
X-ORIGINAL-URL:https://arascoaml.com
X-WR-CALDESC:Eventos para Arasco
BEGIN:VEVENT
DTSTART;TZID=UTC+0:20200720T090000
DTEND;TZID=UTC+0:20200721T170000
DTSTAMP:20260425T001319
CREATED:20200327T014059Z
LAST-MODIFIED:20200409T191458Z
UID:3520-1595235600-1595350800@arascoaml.com
SUMMARY:GUAYAQUIL: Competencias y Responsabilidades de la Unidad de Cumplimiento
DESCRIPTION:COMPETENCIAS Y RESPONSABILIDADES DE LA UNIDAD DE CUMPLIMIENTO - ECUADOR\n
URL:https://arascoaml.com/event/guayaquil-competencias-y-responsabilidades-de-la-unidad-de-cumplimiento/
LOCATION:Guayaquil\, Ecuador
CATEGORIES:Capacitaciones
ORGANIZER;CN="ARASCO":MAILTO:nathaly.guzman@grupomj.com
END:VEVENT
END:VCALENDAR