BEGIN:VCALENDAR
VERSION:2.0
PRODID:-//Arasco - ECPv4.6.22.1//NONSGML v1.0//EN
CALSCALE:GREGORIAN
METHOD:PUBLISH
X-WR-CALNAME:Arasco
X-ORIGINAL-URL:https://arascoaml.com
X-WR-CALDESC:Eventos para Arasco
BEGIN:VEVENT
DTSTART;TZID=UTC+0:20200722T090000
DTEND;TZID=UTC+0:20200723T170000
DTSTAMP:20260425T001320
CREATED:20200327T014151Z
LAST-MODIFIED:20200409T191550Z
UID:3522-1595408400-1595523600@arascoaml.com
SUMMARY:QUITO: Competencias y Responsabilidades de la Unidad de Cumplimiento
DESCRIPTION:COMPETENCIAS Y RESPONSABILIDADES DE LA UNIDAD DE CUMPLIMIENTO - ECUADOR\n
URL:https://arascoaml.com/event/quito-competencias-y-responsabilidades-de-la-unidad-de-cumplimiento/
LOCATION:Quito\, Avenida 12 de Octubre y Luis Cordero\, Quito\, PICHINCHA\, Ecuador
CATEGORIES:Capacitaciones
ORGANIZER;CN="ARASCO":MAILTO:nathaly.guzman@grupomj.com
END:VEVENT
BEGIN:VEVENT
DTSTART;TZID=UTC+0:20200723T090000
DTEND;TZID=UTC+0:20200723T130000
DTSTAMP:20260425T001320
CREATED:20200616T181635Z
LAST-MODIFIED:20200616T181635Z
UID:3754-1595494800-1595509200@arascoaml.com
SUMMARY:ON LINE: Elaboración de la Matriz de Riesgos del Proveedor\, Definiendo el riesgo transaccional y las alertas
DESCRIPTION:
URL:https://arascoaml.com/event/on-line-elaboracion-de-la-matriz-de-riesgos-del-proveedor-definiendo-el-riesgo-transaccional-y-las-alertas/
LOCATION:ARASCO\, Av. Hermano Miguel Mz. 1 Solar 6 y Agustin Freire. Edificio GS Building Piso 2 Oficina 205\, Guayaquil\, Guayas\, 090150\, Ecuador
CATEGORIES:Capacitaciones
ORGANIZER;CN="ARASCO":MAILTO:nathaly.guzman@grupomj.com
END:VEVENT
END:VCALENDAR