BEGIN:VCALENDAR
VERSION:2.0
PRODID:-//Arasco - ECPv4.6.22.1//NONSGML v1.0//EN
CALSCALE:GREGORIAN
METHOD:PUBLISH
X-WR-CALNAME:Arasco
X-ORIGINAL-URL:https://arascoaml.com
X-WR-CALDESC:Eventos para Arasco
BEGIN:VEVENT
DTSTART;TZID=UTC+0:20200727T090000
DTEND;TZID=UTC+0:20200727T170000
DTSTAMP:20260424T224133
CREATED:20200327T014407Z
LAST-MODIFIED:20200612T233503Z
UID:3524-1595840400-1595869200@arascoaml.com
SUMMARY:PANAMA: Competencias y Responsabilidades de la Unidad de Cumplimiento
DESCRIPTION:AGENCA COMET.RESP. U.C 27 julio.\n
URL:https://arascoaml.com/event/guayaquil-competencias-y-responsabilidades-de-la-unidad-de-cumplimiento-2/
LOCATION:Panamá\, Calle 52 y Ricardo Arias\, Área Bancaria. Ciudad de Panamá\, Panamá\, Panamá
CATEGORIES:Capacitaciones
ORGANIZER;CN="ARASCO":MAILTO:nathaly.guzman@grupomj.com
END:VEVENT
END:VCALENDAR