BEGIN:VCALENDAR
VERSION:2.0
PRODID:-//Arasco - ECPv4.6.22.1//NONSGML v1.0//EN
CALSCALE:GREGORIAN
METHOD:PUBLISH
X-WR-CALNAME:Arasco
X-ORIGINAL-URL:https://arascoaml.com
X-WR-CALDESC:Eventos para Arasco
BEGIN:VEVENT
DTSTART;TZID=UTC+0:20200728T090000
DTEND;TZID=UTC+0:20200729T170000
DTSTAMP:20260424T224046
CREATED:20200612T234210Z
LAST-MODIFIED:20200612T234210Z
UID:3696-1595926800-1596042000@arascoaml.com
SUMMARY:PANAMA: AUDITORIA DE PREVENCION DE BLANQUEO DE CAPITALES CON ENFOQUE BASADO EN RIESGOS
DESCRIPTION:AUDITORIA CON EBR 28 y 29 julio\n
URL:https://arascoaml.com/event/panama-auditoria-de-prevencion-de-blanqueo-de-capitales-con-enfoque-basado-en-riesgos/
LOCATION:Panamá\, Calle 52 y Ricardo Arias\, Área Bancaria. Ciudad de Panamá\, Panamá\, Panamá
CATEGORIES:Capacitaciones
ORGANIZER;CN="ARASCO":MAILTO:nathaly.guzman@grupomj.com
END:VEVENT
END:VCALENDAR