BEGIN:VCALENDAR
VERSION:2.0
PRODID:-//Arasco - ECPv4.6.22.1//NONSGML v1.0//EN
CALSCALE:GREGORIAN
METHOD:PUBLISH
X-WR-CALNAME:Arasco
X-ORIGINAL-URL:https://arascoaml.com
X-WR-CALDESC:Eventos para Arasco
BEGIN:VEVENT
DTSTART;TZID=UTC+0:20200803T090000
DTEND;TZID=UTC+0:20200804T170000
DTSTAMP:20260424T224051
CREATED:20200327T015227Z
LAST-MODIFIED:20200327T015227Z
UID:3526-1596445200-1596560400@arascoaml.com
SUMMARY:GUAYAQUIL: Diseño\, Evaluación Y Gestión de un Plan de Investigaciones
DESCRIPTION:
URL:https://arascoaml.com/event/guayaquil-diseno-evaluacion-y-gestion-de-un-plan-de-investigaciones/
LOCATION:Guayaquil\, Ecuador
CATEGORIES:Capacitaciones
ORGANIZER;CN="ARASCO":MAILTO:nathaly.guzman@grupomj.com
END:VEVENT
BEGIN:VEVENT
DTSTART;TZID=UTC+0:20200803T090000
DTEND;TZID=UTC+0:20200804T170000
DTSTAMP:20260424T224051
CREATED:20200422T172302Z
LAST-MODIFIED:20200422T173006Z
UID:3682-1596445200-1596560400@arascoaml.com
SUMMARY:GUAYAQUIL: Auditoria en Prevención De lavado de Activos con EBR
DESCRIPTION:AUDITORIA CON EBR -\n
URL:https://arascoaml.com/event/auditoria-en-prevencion-de-lavado-de-activos-con-ebr/
LOCATION:Guayaquil\, Ecuador
CATEGORIES:Capacitaciones
ORGANIZER;CN="ARASCO":MAILTO:nathaly.guzman@grupomj.com
END:VEVENT
END:VCALENDAR