BEGIN:VCALENDAR
VERSION:2.0
PRODID:-//Arasco - ECPv4.6.22.1//NONSGML v1.0//EN
CALSCALE:GREGORIAN
METHOD:PUBLISH
X-WR-CALNAME:Arasco
X-ORIGINAL-URL:https://arascoaml.com
X-WR-CALDESC:Eventos para Arasco
BEGIN:VEVENT
DTSTART;TZID=UTC+0:20200805T090000
DTEND;TZID=UTC+0:20200806T170000
DTSTAMP:20260424T224133
CREATED:20200327T015301Z
LAST-MODIFIED:20200327T015301Z
UID:3527-1596618000-1596733200@arascoaml.com
SUMMARY:QUITO: Diseño\, Evaluación Y Gestión de un Plan de Investigaciones
DESCRIPTION:
URL:https://arascoaml.com/event/quito-diseno-evaluacion-y-gestion-de-un-plan-de-investigaciones/
LOCATION:Quito\, Avenida 12 de Octubre y Luis Cordero\, Quito\, PICHINCHA\, Ecuador
CATEGORIES:Capacitaciones
ORGANIZER;CN="ARASCO":MAILTO:nathaly.guzman@grupomj.com
END:VEVENT
BEGIN:VEVENT
DTSTART;TZID=UTC+0:20200805T090000
DTEND;TZID=UTC+0:20200806T170000
DTSTAMP:20260424T224133
CREATED:20200422T173057Z
LAST-MODIFIED:20200422T173057Z
UID:3687-1596618000-1596733200@arascoaml.com
SUMMARY:QUITO: Auditoria en Prevención De lavado de Activos con EBR
DESCRIPTION:AUDITORIA CON EBR -\n
URL:https://arascoaml.com/event/quito-auditoria-en-prevencion-de-lavado-de-activos-con-ebr-2/
LOCATION:Quito\, Avenida 12 de Octubre y Luis Cordero\, Quito\, PICHINCHA\, Ecuador
CATEGORIES:Capacitaciones
ORGANIZER;CN="ARASCO":MAILTO:nathaly.guzman@grupomj.com
END:VEVENT
END:VCALENDAR