BEGIN:VCALENDAR
VERSION:2.0
PRODID:-//Arasco - ECPv4.6.22.1//NONSGML v1.0//EN
CALSCALE:GREGORIAN
METHOD:PUBLISH
X-WR-CALNAME:Arasco
X-ORIGINAL-URL:https://arascoaml.com
X-WR-CALDESC:Eventos para Arasco
BEGIN:VEVENT
DTSTART;TZID=UTC+0:20200813T090000
DTEND;TZID=UTC+0:20200814T170000
DTSTAMP:20260424T224116
CREATED:20200327T020217Z
LAST-MODIFIED:20200331T013957Z
UID:3530-1597309200-1597424400@arascoaml.com
SUMMARY:PANAMA: Investigación De Alertas Inusuales Generadas Por Los Factores De Riesgos de lavado de dinero
DESCRIPTION:
URL:https://arascoaml.com/event/costa-rica-investigacion-de-alertas-inusuales-generadas-por-los-factores-de-riesgos-de-lavado-de-dinero/
LOCATION:Panamá\, Calle 52 y Ricardo Arias\, Área Bancaria. Ciudad de Panamá\, Panamá\, Panamá
CATEGORIES:Capacitaciones
ORGANIZER;CN="ARASCO":MAILTO:nathaly.guzman@grupomj.com
END:VEVENT
BEGIN:VEVENT
DTSTART;TZID=UTC+0:20200813T090000
DTEND;TZID=UTC+0:20200813T130000
DTSTAMP:20260424T224116
CREATED:20200616T215652Z
LAST-MODIFIED:20200616T215652Z
UID:3760-1597309200-1597323600@arascoaml.com
SUMMARY:ON LINE: Elaboración de la Matriz de Riesgos por Procesos\,  Riesgo Inherente
DESCRIPTION:
URL:https://arascoaml.com/event/on-line-elaboracion-de-la-matriz-de-riesgos-por-procesos-riesgo-inherente/
LOCATION:ARASCO\, Av. Hermano Miguel Mz. 1 Solar 6 y Agustin Freire. Edificio GS Building Piso 2 Oficina 205\, Guayaquil\, Guayas\, 090150\, Ecuador
CATEGORIES:Capacitaciones
ORGANIZER;CN="ARASCO":MAILTO:nathaly.guzman@grupomj.com
END:VEVENT
END:VCALENDAR