BEGIN:VCALENDAR
VERSION:2.0
PRODID:-//Arasco - ECPv4.6.22.1//NONSGML v1.0//EN
CALSCALE:GREGORIAN
METHOD:PUBLISH
X-WR-CALNAME:Arasco
X-ORIGINAL-URL:https://arascoaml.com
X-WR-CALDESC:Eventos para Arasco
BEGIN:VEVENT
DTSTART;TZID=UTC+0:20200828T090000
DTEND;TZID=UTC+0:20200829T170000
DTSTAMP:20260424T224045
CREATED:20200422T173232Z
LAST-MODIFIED:20200422T173314Z
UID:3689-1598605200-1598720400@arascoaml.com
SUMMARY:PANAMÁ: Auditoria en Prevención De lavado de Activos con EBR
DESCRIPTION:AUDITORIA CON EBR -\n
URL:https://arascoaml.com/event/panama-auditoria-en-prevencion-de-lavado-de-activos-con-ebr/
LOCATION:Panamá\, Calle 52 y Ricardo Arias\, Área Bancaria. Ciudad de Panamá\, Panamá\, Panamá
CATEGORIES:Capacitaciones
ORGANIZER;CN="ARASCO":MAILTO:nathaly.guzman@grupomj.com
END:VEVENT
END:VCALENDAR