BEGIN:VCALENDAR
VERSION:2.0
PRODID:-//Arasco - ECPv4.6.22.1//NONSGML v1.0//EN
CALSCALE:GREGORIAN
METHOD:PUBLISH
X-WR-CALNAME:Arasco
X-ORIGINAL-URL:https://arascoaml.com
X-WR-CALDESC:Eventos para Arasco
BEGIN:VEVENT
DTSTART;TZID=UTC+0:20200923T090000
DTEND;TZID=UTC+0:20200924T170000
DTSTAMP:20260424T211529
CREATED:20200327T023856Z
LAST-MODIFIED:20200613T000337Z
UID:3546-1600851600-1600966800@arascoaml.com
SUMMARY:QUITO: Programa de Actualización de Oficiales de Cumplimiento
DESCRIPTION:AGENCA ACT. OF.CUMPL sept\n
URL:https://arascoaml.com/event/quito-programa-de-actualizacion-de-oficiales-de-cumplimiento/
LOCATION:Quito\, Avenida 12 de Octubre y Luis Cordero\, Quito\, PICHINCHA\, Ecuador
CATEGORIES:Capacitaciones
ORGANIZER;CN="ARASCO":MAILTO:nathaly.guzman@grupomj.com
END:VEVENT
END:VCALENDAR