BEGIN:VCALENDAR
VERSION:2.0
PRODID:-//Arasco - ECPv4.6.22.1//NONSGML v1.0//EN
CALSCALE:GREGORIAN
METHOD:PUBLISH
X-WR-CALNAME:Arasco
X-ORIGINAL-URL:https://arascoaml.com
X-WR-CALDESC:Eventos para Arasco
BEGIN:VEVENT
DTSTART;TZID=UTC+0:20201019T090000
DTEND;TZID=UTC+0:20201020T170000
DTSTAMP:20260424T195644
CREATED:20200327T025720Z
LAST-MODIFIED:20200613T002634Z
UID:3566-1603098000-1603213200@arascoaml.com
SUMMARY:GUAYAQUIL: Auditoria En Seguridad Con Enfoque Basado En El Riesgo
DESCRIPTION:AGENDA AUDITORIA EN SEGURIDAD CON EBR 19 oct\n
URL:https://arascoaml.com/event/guayaquil-auditoria-en-seguridad-con-enfoque-basado-en-el-riesgo/
LOCATION:Guayaquil\, Ecuador
CATEGORIES:Capacitaciones
ORGANIZER;CN="ARASCO":MAILTO:nathaly.guzman@grupomj.com
END:VEVENT
END:VCALENDAR