BEGIN:VCALENDAR
VERSION:2.0
PRODID:-//Arasco - ECPv4.6.22.1//NONSGML v1.0//EN
CALSCALE:GREGORIAN
METHOD:PUBLISH
X-WR-CALNAME:Arasco
X-ORIGINAL-URL:https://arascoaml.com
X-WR-CALDESC:Eventos para Arasco
BEGIN:VEVENT
DTSTART;TZID=UTC+0:20201021T090000
DTEND;TZID=UTC+0:20201022T170000
DTSTAMP:20260424T195448
CREATED:20200327T025831Z
LAST-MODIFIED:20200613T002639Z
UID:3565-1603270800-1603386000@arascoaml.com
SUMMARY:QUITO: Auditoria En Seguridad Con Enfoque Basado En El Riesgo
DESCRIPTION:AGENDA AUDITORIA EN SEGURIDAD CON EBR 19 oct\n
URL:https://arascoaml.com/event/quito-auditoria-en-seguridad-con-enfoque-basado-en-el-riesgo/
LOCATION:Quito\, Avenida 12 de Octubre y Luis Cordero\, Quito\, PICHINCHA\, Ecuador
CATEGORIES:Capacitaciones
ORGANIZER;CN="ARASCO":MAILTO:nathaly.guzman@grupomj.com
END:VEVENT
END:VCALENDAR