BEGIN:VCALENDAR
VERSION:2.0
PRODID:-//Arasco - ECPv4.6.22.1//NONSGML v1.0//EN
CALSCALE:GREGORIAN
METHOD:PUBLISH
X-WR-CALNAME:Arasco
X-ORIGINAL-URL:https://arascoaml.com
X-WR-CALDESC:Eventos para Arasco
BEGIN:VEVENT
DTSTART;TZID=UTC+0:20201109T090000
DTEND;TZID=UTC+0:20201110T170000
DTSTAMP:20260424T181647
CREATED:20200327T030210Z
LAST-MODIFIED:20200615T174141Z
UID:3569-1604912400-1605027600@arascoaml.com
SUMMARY:GUAYAQUIL: Identificar\, Evaluar Y Gestionar Los Riesgos De Productos Y Procesos Para PLA
DESCRIPTION:AGENDA RIESGOS LA PROCESOS Y PRODUCTOS2 9 y 10 nov\n
URL:https://arascoaml.com/event/yguayaquil-identificar-evaluar-y-gestionar-los-riesgos-de-productos-y-procesos-para-pla/
LOCATION:Guayaquil\, Ecuador
CATEGORIES:Capacitaciones
ORGANIZER;CN="ARASCO":MAILTO:nathaly.guzman@grupomj.com
END:VEVENT
END:VCALENDAR