BEGIN:VCALENDAR
VERSION:2.0
PRODID:-//Arasco - ECPv4.6.22.1//NONSGML v1.0//EN
CALSCALE:GREGORIAN
METHOD:PUBLISH
X-WR-CALNAME:Arasco
X-ORIGINAL-URL:https://arascoaml.com
X-WR-CALDESC:Eventos para Arasco
BEGIN:VEVENT
DTSTART;TZID=UTC+0:20210115T090000
DTEND;TZID=UTC+0:20210115T130000
DTSTAMP:20260424T151016
CREATED:20210120T155007Z
LAST-MODIFIED:20210120T155007Z
UID:3775-1610701200-1610715600@arascoaml.com
SUMMARY:Gestión adecuada de los riesgos del Lavado de Activos - Nivel: medio
DESCRIPTION:Gestión adecuada de los riesgos del Lavado de Activos – Nivel: medio \n
URL:https://arascoaml.com/event/gestion-adecuada-de-los-riesgos-del-lavado-de-activos-nivel-medio/
LOCATION:ARASCO\, Av. Hermano Miguel Mz. 1 Solar 6 y Agustin Freire. Edificio GS Building Piso 2 Oficina 205\, Guayaquil\, Guayas\, 090150\, Ecuador
CATEGORIES:Capacitaciones
ORGANIZER;CN="ARASCO%26AML":MAILTO:michelle.guzman@arascoaml.com
END:VEVENT
END:VCALENDAR