BEGIN:VCALENDAR
VERSION:2.0
PRODID:-//Arasco - ECPv4.6.22.1//NONSGML v1.0//EN
CALSCALE:GREGORIAN
METHOD:PUBLISH
X-WR-CALNAME:Arasco
X-ORIGINAL-URL:https://arascoaml.com
X-WR-CALDESC:Eventos para Arasco
BEGIN:VEVENT
DTSTART;TZID=UTC+0:20210127T160000
DTEND;TZID=UTC+0:20210129T190000
DTSTAMP:20260424T151005
CREATED:20210120T155821Z
LAST-MODIFIED:20210120T155821Z
UID:3778-1611763200-1611946800@arascoaml.com
SUMMARY:Análisis de Riesgos en Seguridad Física - Nivel: básico
DESCRIPTION:Análisis de Riesgos en Seguridad Física – Nivel: básico \n
URL:https://arascoaml.com/event/analisis-de-riesgos-en-seguridad-fisica-nivel-basico/
LOCATION:ARASCO\, Av. Hermano Miguel Mz. 1 Solar 6 y Agustin Freire. Edificio GS Building Piso 2 Oficina 205\, Guayaquil\, Guayas\, 090150\, Ecuador
CATEGORIES:Capacitaciones
ORGANIZER;CN="ARASCO%26AML":MAILTO:michelle.guzman@arascoaml.com
END:VEVENT
END:VCALENDAR