BEGIN:VCALENDAR
VERSION:2.0
PRODID:-//Arasco - ECPv4.6.22.1//NONSGML v1.0//EN
CALSCALE:GREGORIAN
METHOD:PUBLISH
X-WR-CALNAME:Arasco
X-ORIGINAL-URL:https://arascoaml.com
X-WR-CALDESC:Eventos para Arasco
BEGIN:VEVENT
DTSTART;TZID=UTC+0:20210407T150000
DTEND;TZID=UTC+0:20210408T190000
DTSTAMP:20260424T103626
CREATED:20210120T161441Z
LAST-MODIFIED:20210120T161441Z
UID:3793-1617807600-1617908400@arascoaml.com
SUMMARY:Análisis de Tipologías Actuales de Lavado de Dinero en el Sector Económico - Nivel: medio
DESCRIPTION:Análisis de Tipologías Actuales de Lavado de Dinero en el Sector Económico – Nivel: medio \n
URL:https://arascoaml.com/event/analisis-de-tipologias-actuales-de-lavado-de-dinero-en-el-sector-economico-nivel-medio/
LOCATION:ARASCO\, Av. Hermano Miguel Mz. 1 Solar 6 y Agustin Freire. Edificio GS Building Piso 2 Oficina 205\, Guayaquil\, Guayas\, 090150\, Ecuador
CATEGORIES:Capacitaciones
ORGANIZER;CN="ARASCO%26AML":MAILTO:michelle.guzman@arascoaml.com
END:VEVENT
END:VCALENDAR