BEGIN:VCALENDAR
VERSION:2.0
PRODID:-//Arasco - ECPv4.6.22.1//NONSGML v1.0//EN
CALSCALE:GREGORIAN
METHOD:PUBLISH
X-WR-CALNAME:Arasco
X-ORIGINAL-URL:https://arascoaml.com
X-WR-CALDESC:Eventos para Arasco
BEGIN:VEVENT
DTSTART;TZID=UTC+0:20210817T150000
DTEND;TZID=UTC+0:20210820T190000
DTSTAMP:20260424T045819
CREATED:20210120T163453Z
LAST-MODIFIED:20210120T163453Z
UID:3823-1629212400-1629486000@arascoaml.com
SUMMARY:Actualización para Oficiales de Cumplimiento - Nivel: avanzado
DESCRIPTION:Actualización para Oficiales de Cumplimiento – Nivel: avanzado \n
URL:https://arascoaml.com/event/actualizacion-para-oficiales-de-cumplimiento-nivel-avanzado/
LOCATION:ARASCO\, Av. Hermano Miguel Mz. 1 Solar 6 y Agustin Freire. Edificio GS Building Piso 2 Oficina 205\, Guayaquil\, Guayas\, 090150\, Ecuador
CATEGORIES:Capacitaciones
ORGANIZER;CN="ARASCO%26AML":MAILTO:michelle.guzman@arascoaml.com
END:VEVENT
END:VCALENDAR