BEGIN:VCALENDAR
VERSION:2.0
PRODID:-//Arasco - ECPv4.6.22.1//NONSGML v1.0//EN
CALSCALE:GREGORIAN
METHOD:PUBLISH
X-WR-CALNAME:Arasco
X-ORIGINAL-URL:https://arascoaml.com
X-WR-CALDESC:Eventos para Arasco
BEGIN:VEVENT
DTSTART;TZID=UTC+0:20210909T090000
DTEND;TZID=UTC+0:20210910T130000
DTSTAMP:20260424T033417
CREATED:20210120T163631Z
LAST-MODIFIED:20210120T163631Z
UID:3827-1631178000-1631278800@arascoaml.com
SUMMARY:Estructura y Elaboración de la Matriz de Riesgos Clientes con Enfoque Basado en Riesgos - Nivel: avanzado
DESCRIPTION:Estructura y Elaboración de la Matriz de Riesgos Clientes con Enfoque Basado en Riesgos – Nivel: avanzado \n
URL:https://arascoaml.com/event/estructura-y-elaboracion-de-la-matriz-de-riesgos-clientes-con-enfoque-basado-en-riesgos-nivel-avanzado/
LOCATION:ARASCO\, Av. Hermano Miguel Mz. 1 Solar 6 y Agustin Freire. Edificio GS Building Piso 2 Oficina 205\, Guayaquil\, Guayas\, 090150\, Ecuador
CATEGORIES:Capacitaciones
ORGANIZER;CN="ARASCO%26AML":MAILTO:michelle.guzman@arascoaml.com
END:VEVENT
END:VCALENDAR