BEGIN:VCALENDAR
VERSION:2.0
PRODID:-//Arasco - ECPv4.6.22.1//NONSGML v1.0//EN
CALSCALE:GREGORIAN
METHOD:PUBLISH
X-WR-CALNAME:Arasco
X-ORIGINAL-URL:https://arascoaml.com
X-WR-CALDESC:Eventos para Arasco
BEGIN:VEVENT
DTSTART;VALUE=DATE:20220922
DTEND;VALUE=DATE:20220924
DTSTAMP:20260423T100800
CREATED:20220110T213308Z
LAST-MODIFIED:20220110T213308Z
UID:3881-1663804800-1663977599@arascoaml.com
SUMMARY:Lavado de dinero a través de activos virtuales y  criptomonedas: parte 2 “Monitoreo y Control”
DESCRIPTION:Lavado de dinero a través de activos virtuales y\ncriptomonedas: parte 2 “Monitoreo y Control” \n
URL:https://arascoaml.com/event/lavado-de-dinero-a-traves-de-activos-virtuales-y-criptomonedas-parte-2-monitoreo-y-control/
LOCATION:ARASCO\, Av. Hermano Miguel Mz. 1 Solar 6 y Agustin Freire. Edificio GS Building Piso 2 Oficina 205\, Guayaquil\, Guayas\, 090150\, Ecuador
CATEGORIES:Capacitaciones
ORGANIZER;CN="ARASCO%26AML":MAILTO:michelle.guzman@arascoaml.com
END:VEVENT
END:VCALENDAR