BEGIN:VCALENDAR
VERSION:2.0
PRODID:-//Arasco - ECPv4.6.22.1//NONSGML v1.0//EN
CALSCALE:GREGORIAN
METHOD:PUBLISH
X-WR-CALNAME:Arasco
X-ORIGINAL-URL:https://arascoaml.com
X-WR-CALDESC:Eventos para Arasco
BEGIN:VEVENT
DTSTART;VALUE=DATE:20221117
DTEND;VALUE=DATE:20221119
DTSTAMP:20260423T064517
CREATED:20220110T213831Z
LAST-MODIFIED:20220110T213831Z
UID:3887-1668643200-1668815999@arascoaml.com
SUMMARY:Identificación de evidencias en casos de lavado de  activos\, parte 2: “reportes”
DESCRIPTION:Identificación de evidencias en casos de lavado de\nactivos\, parte 2: “reportes” \n
URL:https://arascoaml.com/event/identificacion-de-evidencias-en-casos-de-lavado-de-activos-parte-2-reportes/
LOCATION:ARASCO\, Av. Hermano Miguel Mz. 1 Solar 6 y Agustin Freire. Edificio GS Building Piso 2 Oficina 205\, Guayaquil\, Guayas\, 090150\, Ecuador
CATEGORIES:Capacitaciones
ORGANIZER;CN="ARASCO%26AML":MAILTO:michelle.guzman@arascoaml.com
END:VEVENT
END:VCALENDAR