BEGIN:VCALENDAR
VERSION:2.0
PRODID:-//Arasco - ECPv4.6.22.1//NONSGML v1.0//EN
CALSCALE:GREGORIAN
METHOD:PUBLISH
X-WR-CALNAME:Arasco
X-ORIGINAL-URL:https://arascoaml.com
X-WR-CALDESC:Eventos para Arasco
BEGIN:VEVENT
DTSTART;TZID=UTC+0:20230213T170000
DTEND;TZID=UTC+0:20230330T210000
DTSTAMP:20260423T005659
CREATED:20221230T172623Z
LAST-MODIFIED:20230120T204243Z
UID:3937-1676307600-1680210000@arascoaml.com
SUMMARY:PROGRAMA DE FORMACIÓN COMO OFICIAL DE CUMPLIMIENTO 120 HORAS. MODALIDAD VIRTUAL
DESCRIPTION:PROGRAMA DE FORMACIÓN COMO OFICIAL DE CUMPLIMIENTO 120 HORAS \n
URL:https://arascoaml.com/event/programa-de-formacion-como-oficial-de-cumplimiento-120-horas-modalidad-virtual/
LOCATION:ARASCO\, Av. Hermano Miguel Mz. 1 Solar 6 y Agustin Freire. Edificio GS Building Piso 2 Oficina 205\, Guayaquil\, Guayas\, 090150\, Ecuador
CATEGORIES:Capacitaciones
ORGANIZER;CN="ARASCO":MAILTO:nathaly.guzman@grupomj.com
END:VEVENT
BEGIN:VEVENT
DTSTART;TZID=UTC+0:20230313T090000
DTEND;TZID=UTC+0:20230315T170000
DTSTAMP:20260423T005700
CREATED:20221230T173450Z
LAST-MODIFIED:20230120T201546Z
UID:3939-1678698000-1678899600@arascoaml.com
SUMMARY:ELABORACIÓN DE LAS MATRICES DE RIESGOS PAR A LA PREVENCIÓN DEL LAVADO DE ACTIVOS / BLANQUEO DE CAPITALES CON ENFOQUE BASADO EN RIESGOS DE CLIENTES\, COLABORADORES\, PROVEEDORES\, PROCESOS. MODALIDAD PRESENCIAL PARA PANAMÁ VIRTUAL TODOS LOS PAÍSES
DESCRIPTION:ELABORACIÓN DE LAS MATRICES DE RIESGOS PAR A LA PREVENCIÓN DEL LAVADO DE ACTIVOS / BLANQUEO DE CAPITALES CON ENFOQUE BASADO EN RIESGOS DE CLIENTES\, COLABORADORES\, PROVEEDORES\, PROCESOS.  \n
URL:https://arascoaml.com/event/elaboracion-de-las-matrices-de-riesgos-par-a-la-prevencion-del-lavado-de-activos-blanqueo-de-capitales-con-enfoque-basado-en-riesgos-de-clientes-colaboradores-proveedores-procesos-modalidad-pres/
LOCATION:ARASCO\, Av. Hermano Miguel Mz. 1 Solar 6 y Agustin Freire. Edificio GS Building Piso 2 Oficina 205\, Guayaquil\, Guayas\, 090150\, Ecuador
CATEGORIES:Capacitaciones
ORGANIZER;CN="ARASCO":MAILTO:nathaly.guzman@grupomj.com
END:VEVENT
END:VCALENDAR