BEGIN:VCALENDAR
VERSION:2.0
PRODID:-//Arasco - ECPv4.6.22.1//NONSGML v1.0//EN
CALSCALE:GREGORIAN
METHOD:PUBLISH
X-WR-CALNAME:Arasco
X-ORIGINAL-URL:https://arascoaml.com
X-WR-CALDESC:Eventos para Arasco
BEGIN:VEVENT
DTSTART;TZID=UTC+0:20230416T090000
DTEND;TZID=UTC+0:20230416T170000
DTSTAMP:20260422T233614
CREATED:20230317T183640Z
LAST-MODIFIED:20230317T183640Z
UID:3986-1681635600-1681664400@arascoaml.com
SUMMARY:MATRIZ DE RIESGOS DE CLIENTES CON ENFOQUE BASADO EN RIESGOS - MODALIDAD ONLINE
DESCRIPTION:MATRIZ DE RIESGOS DE CLIENTES CON ENFOQUE BASADO EN RIESGOS AGENDA MATRIZ DE RIESGOS CLIENTE CON ENFOQUE BASADO EN RIESGOS copia \n
URL:https://arascoaml.com/event/matriz-de-riesgos-de-clientes-con-enfoque-basado-en-riesgos-modalidad-online/
LOCATION:ARASCO\, Av. Hermano Miguel Mz. 1 Solar 6 y Agustin Freire. Edificio GS Building Piso 2 Oficina 205\, Guayaquil\, Guayas\, 090150\, Ecuador
CATEGORIES:Capacitaciones
ORGANIZER;CN="ARASCO%26AML":MAILTO:michelle.guzman@arascoaml.com
END:VEVENT
END:VCALENDAR