BEGIN:VCALENDAR
VERSION:2.0
PRODID:-//Arasco - ECPv4.6.22.1//NONSGML v1.0//EN
CALSCALE:GREGORIAN
METHOD:PUBLISH
X-WR-CALNAME:Arasco
X-ORIGINAL-URL:https://arascoaml.com
X-WR-CALDESC:Eventos para Arasco
BEGIN:VEVENT
DTSTART;TZID=UTC+0:20230417T180000
DTEND;TZID=UTC+0:20230417T210000
DTSTAMP:20260422T234656
CREATED:20221230T174815Z
LAST-MODIFIED:20230120T204410Z
UID:3943-1681754400-1681765200@arascoaml.com
SUMMARY:GESTIÓN DE RIESGO DE SEGURIDAD DE LA INFORMACIÓN EN LA ORGANIZACIÓN  - MODALIDAD VIRTUAL
DESCRIPTION:GESTIÓN DE RIESGO DE SEGURIDAD DE LA INFORMACIÓN EN LA ORGANIZACIÓN \n
URL:https://arascoaml.com/event/gestion-de-riesgo-de-seguridad-de-la-informacion-en-la-organizacion-modalidad-virtual/
LOCATION:ARASCO\, Av. Hermano Miguel Mz. 1 Solar 6 y Agustin Freire. Edificio GS Building Piso 2 Oficina 205\, Guayaquil\, Guayas\, 090150\, Ecuador
CATEGORIES:Capacitaciones
ORGANIZER;CN="ARASCO":MAILTO:nathaly.guzman@grupomj.com
END:VEVENT
END:VCALENDAR