BEGIN:VCALENDAR
VERSION:2.0
PRODID:-//Arasco - ECPv4.6.22.1//NONSGML v1.0//EN
CALSCALE:GREGORIAN
METHOD:PUBLISH
X-WR-CALNAME:Arasco
X-ORIGINAL-URL:https://arascoaml.com
X-WR-CALDESC:Eventos para Arasco
BEGIN:VEVENT
DTSTART;TZID=UTC+0:20230515T090000
DTEND;TZID=UTC+0:20230517T170000
DTSTAMP:20260422T214950
CREATED:20230417T233652Z
LAST-MODIFIED:20230417T233757Z
UID:4237-1684141200-1684342800@arascoaml.com
SUMMARY:ELABORACIÓN DE LAS MATRICES DE RIESGOS PARA LA PREVENCIÓN DE LAVADO DE ACTIVOS CON ENFOQUE BASADO EN RIESGOS
DESCRIPTION:ELABORACIÓN DE LAS MATRICES DE RIESGOS PARA LA PREVENCIÓN DE LAVADO DE ACTIVOS CON ENFOQUE BASADO EN RIESGOS\nELABORACION DE LAS MATRICES DE RIESGOS PARA LA PREVENCION DE LAVADO DE ACTIVOS BLANQUEO DE CAPITALES CON EBR \n \n
URL:https://arascoaml.com/event/elaboracion-de-las-matrices-de-riesgos-para-la-prevencion-de-lavado-de-activos-con-enfoque-basado-en-riesgos/
LOCATION:ARASCO\, Av. Hermano Miguel Mz. 1 Solar 6 y Agustin Freire. Edificio GS Building Piso 2 Oficina 205\, Guayaquil\, Guayas\, 090150\, Ecuador
CATEGORIES:Capacitaciones
ORGANIZER;CN="ARASCO":MAILTO:nathaly.guzman@grupomj.com
END:VEVENT
END:VCALENDAR