BEGIN:VCALENDAR
VERSION:2.0
PRODID:-//Arasco - ECPv4.6.22.1//NONSGML v1.0//EN
CALSCALE:GREGORIAN
METHOD:PUBLISH
X-WR-CALNAME:Arasco
X-ORIGINAL-URL:https://arascoaml.com
X-WR-CALDESC:Eventos para Arasco
BEGIN:VEVENT
DTSTART;TZID=UTC+0:20250520T090000
DTEND;TZID=UTC+0:20250520T130000
DTSTAMP:20260419T131942
CREATED:20250917T194755Z
LAST-MODIFIED:20250917T194755Z
UID:4505-1747731600-1747746000@arascoaml.com
SUMMARY:Inteligencia Artificial y Crimen Organizado
DESCRIPTION:
URL:https://arascoaml.com/event/inteligencia-artificial-y-crimen-organizado/
LOCATION:ARASCO\, Av. Hermano Miguel Mz. 1 Solar 6 y Agustin Freire. Edificio GS Building Piso 2 Oficina 205\, Guayaquil\, Guayas\, 090150\, Ecuador
CATEGORIES:Capacitaciones
ORGANIZER;CN="ARASCO%26AML":MAILTO:michelle.guzman@arascoaml.com
END:VEVENT
END:VCALENDAR